BEGIN:VCALENDAR
VERSION:2.0
PRODID:-// - ECPv6.15.12.2//NONSGML v1.0//EN
CALSCALE:GREGORIAN
METHOD:PUBLISH
X-ORIGINAL-URL:https://gemstonetherapyinstitute.org
X-WR-CALDESC:Events for 
REFRESH-INTERVAL;VALUE=DURATION:PT1H
X-Robots-Tag:noindex
X-PUBLISHED-TTL:PT1H
BEGIN:VTIMEZONE
TZID:America/New_York
BEGIN:DAYLIGHT
TZOFFSETFROM:-0500
TZOFFSETTO:-0400
TZNAME:EDT
DTSTART:20240310T070000
END:DAYLIGHT
BEGIN:STANDARD
TZOFFSETFROM:-0400
TZOFFSETTO:-0500
TZNAME:EST
DTSTART:20241103T060000
END:STANDARD
BEGIN:DAYLIGHT
TZOFFSETFROM:-0500
TZOFFSETTO:-0400
TZNAME:EDT
DTSTART:20250309T070000
END:DAYLIGHT
BEGIN:STANDARD
TZOFFSETFROM:-0400
TZOFFSETTO:-0500
TZNAME:EST
DTSTART:20251102T060000
END:STANDARD
BEGIN:DAYLIGHT
TZOFFSETFROM:-0500
TZOFFSETTO:-0400
TZNAME:EDT
DTSTART:20260308T070000
END:DAYLIGHT
BEGIN:STANDARD
TZOFFSETFROM:-0400
TZOFFSETTO:-0500
TZNAME:EST
DTSTART:20261101T060000
END:STANDARD
BEGIN:DAYLIGHT
TZOFFSETFROM:-0500
TZOFFSETTO:-0400
TZNAME:EDT
DTSTART:20270314T070000
END:DAYLIGHT
BEGIN:STANDARD
TZOFFSETFROM:-0400
TZOFFSETTO:-0500
TZNAME:EST
DTSTART:20271107T060000
END:STANDARD
END:VTIMEZONE
BEGIN:VEVENT
DTSTART;TZID=America/New_York:20260408T200000
DTEND;TZID=America/New_York:20260408T200000
DTSTAMP:20260422T182740
CREATED:20251231T190146Z
LAST-MODIFIED:20251231T190146Z
UID:9087-1775678400-1775678400@gemstonetherapyinstitute.org
SUMMARY:Journey of You 2026 - Session #3
DESCRIPTION:
URL:https://gemstonetherapyinstitute.org/event/journey-of-you-2026-session-3/
END:VEVENT
BEGIN:VEVENT
DTSTART;TZID=America/New_York:20260323T200000
DTEND;TZID=America/New_York:20260323T200000
DTSTAMP:20260422T182740
CREATED:20260122T170213Z
LAST-MODIFIED:20260122T170213Z
UID:14668-1774296000-1774296000@gemstonetherapyinstitute.org
SUMMARY:[GEM Level 1] Office Hours
DESCRIPTION:
URL:https://gemstonetherapyinstitute.org/event/gem-level-1-office-hours-7/
END:VEVENT
BEGIN:VEVENT
DTSTART;TZID=America/New_York:20260311T200000
DTEND;TZID=America/New_York:20260311T200000
DTSTAMP:20260422T182740
CREATED:20251231T185601Z
LAST-MODIFIED:20251231T185601Z
UID:9079-1773259200-1773259200@gemstonetherapyinstitute.org
SUMMARY:Journey of You 2026 - Session #2
DESCRIPTION:
URL:https://gemstonetherapyinstitute.org/event/journey-of-you-2026-session-2/
END:VEVENT
BEGIN:VEVENT
DTSTART;TZID=America/New_York:20260226T143000
DTEND;TZID=America/New_York:20260226T143000
DTSTAMP:20260422T182740
CREATED:20260217T124111Z
LAST-MODIFIED:20260217T124111Z
UID:15484-1772116200-1772116200@gemstonetherapyinstitute.org
SUMMARY:[DIA 231] Coaching Call
DESCRIPTION:
URL:https://gemstonetherapyinstitute.org/event/dia-231-coaching-call-7/
END:VEVENT
BEGIN:VEVENT
DTSTART;TZID=America/New_York:20260225T200000
DTEND;TZID=America/New_York:20260225T200000
DTSTAMP:20260422T182740
CREATED:20260216T175216Z
LAST-MODIFIED:20260216T175216Z
UID:15437-1772049600-1772049600@gemstonetherapyinstitute.org
SUMMARY:Tucson Top Ten Webinar
DESCRIPTION:
URL:https://gemstonetherapyinstitute.org/event/tucson-top-ten-webinar/
END:VEVENT
BEGIN:VEVENT
DTSTART;TZID=America/New_York:20260223T200000
DTEND;TZID=America/New_York:20260223T200000
DTSTAMP:20260422T182740
CREATED:20260122T170128Z
LAST-MODIFIED:20260122T170128Z
UID:14665-1771876800-1771876800@gemstonetherapyinstitute.org
SUMMARY:[GEM Level 1] Office Hours
DESCRIPTION:
URL:https://gemstonetherapyinstitute.org/event/gem-level-1-office-hours-6/
END:VEVENT
BEGIN:VEVENT
DTSTART;TZID=America/New_York:20260221T130000
DTEND;TZID=America/New_York:20260221T130000
DTSTAMP:20260422T182740
CREATED:20260217T135420Z
LAST-MODIFIED:20260217T135420Z
UID:15487-1771678800-1771678800@gemstonetherapyinstitute.org
SUMMARY:Diamond Travelers Meeting
DESCRIPTION:
URL:https://gemstonetherapyinstitute.org/event/diamond-travelers-meeting/
END:VEVENT
BEGIN:VEVENT
DTSTART;TZID=America/New_York:20260215T130000
DTEND;TZID=America/New_York:20260215T130000
DTSTAMP:20260422T182740
CREATED:20260112T165019Z
LAST-MODIFIED:20260112T165019Z
UID:10075-1771160400-1771160400@gemstonetherapyinstitute.org
SUMMARY:[DIA 455] Coaching Call
DESCRIPTION:
URL:https://gemstonetherapyinstitute.org/event/dia-455-coaching-call/
END:VEVENT
BEGIN:VEVENT
DTSTART;TZID=America/New_York:20260211T200000
DTEND;TZID=America/New_York:20260211T200000
DTSTAMP:20260422T182740
CREATED:20251231T185122Z
LAST-MODIFIED:20251231T185122Z
UID:9075-1770840000-1770840000@gemstonetherapyinstitute.org
SUMMARY:Journey of You 2026 - Session #1
DESCRIPTION:
URL:https://gemstonetherapyinstitute.org/event/journey-of-you-2026-session-1/
END:VEVENT
BEGIN:VEVENT
DTSTART;TZID=America/New_York:20260126T200000
DTEND;TZID=America/New_York:20260126T200000
DTSTAMP:20260422T182740
CREATED:20260122T164205Z
LAST-MODIFIED:20260122T164334Z
UID:14662-1769457600-1769457600@gemstonetherapyinstitute.org
SUMMARY:[GEM Level 1] Office Hours
DESCRIPTION:
URL:https://gemstonetherapyinstitute.org/event/gem-level-1-office-hours-january26/
END:VEVENT
BEGIN:VEVENT
DTSTART;TZID=America/New_York:20260117T130000
DTEND;TZID=America/New_York:20260117T130000
DTSTAMP:20260422T182740
CREATED:20260106T181334Z
LAST-MODIFIED:20260106T181334Z
UID:9447-1768654800-1768654800@gemstonetherapyinstitute.org
SUMMARY:[Chakra 118] Coaching Call
DESCRIPTION:
URL:https://gemstonetherapyinstitute.org/event/chakra-118-coaching-call/
END:VEVENT
BEGIN:VEVENT
DTSTART;TZID=America/New_York:20260114T200000
DTEND;TZID=America/New_York:20260114T200000
DTSTAMP:20260422T182740
CREATED:20260106T181550Z
LAST-MODIFIED:20260109T064630Z
UID:9449-1768420800-1768420800@gemstonetherapyinstitute.org
SUMMARY:The January Reset
DESCRIPTION:
URL:https://gemstonetherapyinstitute.org/event/january-reset-session/
END:VEVENT
BEGIN:VEVENT
DTSTART;TZID=America/New_York:20260101T143000
DTEND;TZID=America/New_York:20260101T143000
DTSTAMP:20260422T182740
CREATED:20251208T165527Z
LAST-MODIFIED:20251208T165527Z
UID:8430-1767277800-1767277800@gemstonetherapyinstitute.org
SUMMARY:[DIA 231] Coaching Call
DESCRIPTION:
URL:https://gemstonetherapyinstitute.org/event/dia-231-coaching-call-6/
END:VEVENT
BEGIN:VEVENT
DTSTART;TZID=America/New_York:20251227T130000
DTEND;TZID=America/New_York:20251227T130000
DTSTAMP:20260422T182740
CREATED:20251104T165237Z
LAST-MODIFIED:20251104T165406Z
UID:7764-1766840400-1766840400@gemstonetherapyinstitute.org
SUMMARY:Healing Journey 2025 - Group Celebration
DESCRIPTION:
URL:https://gemstonetherapyinstitute.org/event/healing-journey-2025-group-celebration/
END:VEVENT
BEGIN:VEVENT
DTSTART;TZID=America/New_York:20251218T143000
DTEND;TZID=America/New_York:20251218T143000
DTSTAMP:20260422T182740
CREATED:20251208T165414Z
LAST-MODIFIED:20251208T165414Z
UID:8428-1766068200-1766068200@gemstonetherapyinstitute.org
SUMMARY:[DIA 231] Coaching Call
DESCRIPTION:
URL:https://gemstonetherapyinstitute.org/event/dia-231-coaching-call-5/
END:VEVENT
BEGIN:VEVENT
DTSTART;TZID=America/New_York:20251217T140000
DTEND;TZID=America/New_York:20251217T140000
DTSTAMP:20260422T182740
CREATED:20251202T192339Z
LAST-MODIFIED:20251202T192339Z
UID:8411-1765980000-1765980000@gemstonetherapyinstitute.org
SUMMARY:Holiday Interactive Gemstone Showcase
DESCRIPTION:
URL:https://gemstonetherapyinstitute.org/event/holiday-interactive-gemstone-showcase-3/
END:VEVENT
BEGIN:VEVENT
DTSTART;TZID=America/New_York:20251210T200000
DTEND;TZID=America/New_York:20251210T200000
DTSTAMP:20260422T182740
CREATED:20251103T193022Z
LAST-MODIFIED:20251103T193022Z
UID:7754-1765396800-1765396800@gemstonetherapyinstitute.org
SUMMARY:Healing Journey 2025 - Session #10
DESCRIPTION:
URL:https://gemstonetherapyinstitute.org/event/healing-journey-2025-session-10/
END:VEVENT
BEGIN:VEVENT
DTSTART;TZID=America/New_York:20251210T140000
DTEND;TZID=America/New_York:20251210T140000
DTSTAMP:20260422T182740
CREATED:20251202T192130Z
LAST-MODIFIED:20251202T192130Z
UID:8409-1765375200-1765375200@gemstonetherapyinstitute.org
SUMMARY:Holiday Interactive Gemstone Showcase
DESCRIPTION:
URL:https://gemstonetherapyinstitute.org/event/holiday-interactive-gemstone-showcase-2/
END:VEVENT
BEGIN:VEVENT
DTSTART;TZID=America/New_York:20251203T140000
DTEND;TZID=America/New_York:20251203T140000
DTSTAMP:20260422T182740
CREATED:20251202T192052Z
LAST-MODIFIED:20251202T192052Z
UID:8407-1764770400-1764770400@gemstonetherapyinstitute.org
SUMMARY:Holiday Interactive Gemstone Showcase
DESCRIPTION:
URL:https://gemstonetherapyinstitute.org/event/holiday-interactive-gemstone-showcase/
END:VEVENT
BEGIN:VEVENT
DTSTART;TZID=America/New_York:20251126T200000
DTEND;TZID=America/New_York:20251126T200000
DTSTAMP:20260422T182740
CREATED:20250716T192759Z
LAST-MODIFIED:20250716T192759Z
UID:5352-1764187200-1764187200@gemstonetherapyinstitute.org
SUMMARY:Healing Journey 2025 - Session #9
DESCRIPTION:
URL:https://gemstonetherapyinstitute.org/event/healing-journey-2025-session-9/
END:VEVENT
BEGIN:VEVENT
DTSTART;TZID=America/New_York:20251124T200000
DTEND;TZID=America/New_York:20251124T200000
DTSTAMP:20260422T182740
CREATED:20250716T192634Z
LAST-MODIFIED:20250716T192634Z
UID:5350-1764014400-1764014400@gemstonetherapyinstitute.org
SUMMARY:[GEM Level 1] Office Hours
DESCRIPTION:
URL:https://gemstonetherapyinstitute.org/event/gem-level-1-office-hours-5/
END:VEVENT
BEGIN:VEVENT
DTSTART;TZID=America/New_York:20251113T143000
DTEND;TZID=America/New_York:20251113T143000
DTSTAMP:20260422T182740
CREATED:20251111T165901Z
LAST-MODIFIED:20251111T165901Z
UID:7822-1763044200-1763044200@gemstonetherapyinstitute.org
SUMMARY:[DIA 231] Coaching Call
DESCRIPTION:
URL:https://gemstonetherapyinstitute.org/event/dia-231-coaching-call-4/
END:VEVENT
BEGIN:VEVENT
DTSTART;TZID=America/New_York:20251027T200000
DTEND;TZID=America/New_York:20251027T200000
DTSTAMP:20260422T182740
CREATED:20250709T201058Z
LAST-MODIFIED:20250709T201058Z
UID:5067-1761595200-1761595200@gemstonetherapyinstitute.org
SUMMARY:[GEM Level 1] Office Hours
DESCRIPTION:
URL:https://gemstonetherapyinstitute.org/event/gem-level-1-office-hours-4/
END:VEVENT
BEGIN:VEVENT
DTSTART;TZID=America/New_York:20251013T200000
DTEND;TZID=America/New_York:20251013T200000
DTSTAMP:20260422T182740
CREATED:20250709T200843Z
LAST-MODIFIED:20250709T200843Z
UID:5063-1760385600-1760385600@gemstonetherapyinstitute.org
SUMMARY:[GDI 122] Office Hours
DESCRIPTION:
URL:https://gemstonetherapyinstitute.org/event/gdi-122-office-hours/
END:VEVENT
BEGIN:VEVENT
DTSTART;TZID=America/New_York:20251011T130000
DTEND;TZID=America/New_York:20251011T130000
DTSTAMP:20260422T182740
CREATED:20250709T200759Z
LAST-MODIFIED:20250709T200759Z
UID:5061-1760187600-1760187600@gemstonetherapyinstitute.org
SUMMARY:Healing Journey 2025 - Accountability Session #4
DESCRIPTION:
URL:https://gemstonetherapyinstitute.org/event/healing-journey-2025-accountability-session-4/
END:VEVENT
BEGIN:VEVENT
DTSTART;TZID=America/New_York:20251001T200000
DTEND;TZID=America/New_York:20251001T200000
DTSTAMP:20260422T182740
CREATED:20250709T200651Z
LAST-MODIFIED:20250918T145835Z
UID:5059-1759348800-1759348800@gemstonetherapyinstitute.org
SUMMARY:Healing Journey 2025 - Premium Session #4
DESCRIPTION:
URL:https://gemstonetherapyinstitute.org/event/healing-journey-2025-premium-session-4/
END:VEVENT
BEGIN:VEVENT
DTSTART;TZID=America/New_York:20250924T200000
DTEND;TZID=America/New_York:20250924T200000
DTSTAMP:20260422T182740
CREATED:20250709T193534Z
LAST-MODIFIED:20250709T193534Z
UID:5057-1758744000-1758744000@gemstonetherapyinstitute.org
SUMMARY:Healing Journey 2025 - Session #7
DESCRIPTION:
URL:https://gemstonetherapyinstitute.org/event/healing-journey-2025-session-7-2/
END:VEVENT
BEGIN:VEVENT
DTSTART;TZID=America/New_York:20250922T200000
DTEND;TZID=America/New_York:20250922T200000
DTSTAMP:20260422T182740
CREATED:20250709T193351Z
LAST-MODIFIED:20250709T193351Z
UID:5055-1758571200-1758571200@gemstonetherapyinstitute.org
SUMMARY:[GEM Level 1] Office Hours
DESCRIPTION:
URL:https://gemstonetherapyinstitute.org/event/gem-level-1-office-hours-3/
END:VEVENT
BEGIN:VEVENT
DTSTART;TZID=America/New_York:20250918T143000
DTEND;TZID=America/New_York:20250918T143000
DTSTAMP:20260422T182740
CREATED:20250709T193252Z
LAST-MODIFIED:20250709T193252Z
UID:5053-1758205800-1758205800@gemstonetherapyinstitute.org
SUMMARY:[DIA 231] Coaching Call
DESCRIPTION:
URL:https://gemstonetherapyinstitute.org/event/dia-231-coaching-call-3/
END:VEVENT
BEGIN:VEVENT
DTSTART;TZID=America/New_York:20250909T200000
DTEND;TZID=America/New_York:20250909T200000
DTSTAMP:20260422T182740
CREATED:20250721T140844Z
LAST-MODIFIED:20250721T140844Z
UID:5359-1757448000-1757448000@gemstonetherapyinstitute.org
SUMMARY:[GDI 122] Office Hours
DESCRIPTION:
URL:https://gemstonetherapyinstitute.org/event/gdi-122-office-hours-3/
END:VEVENT
END:VCALENDAR