BEGIN:VCALENDAR
VERSION:2.0
PRODID:-// - ECPv6.15.12.2//NONSGML v1.0//EN
CALSCALE:GREGORIAN
METHOD:PUBLISH
X-ORIGINAL-URL:https://gemstonetherapyinstitute.org
X-WR-CALDESC:Events for 
REFRESH-INTERVAL;VALUE=DURATION:PT1H
X-Robots-Tag:noindex
X-PUBLISHED-TTL:PT1H
BEGIN:VTIMEZONE
TZID:America/New_York
BEGIN:DAYLIGHT
TZOFFSETFROM:-0500
TZOFFSETTO:-0400
TZNAME:EDT
DTSTART:20250309T070000
END:DAYLIGHT
BEGIN:STANDARD
TZOFFSETFROM:-0400
TZOFFSETTO:-0500
TZNAME:EST
DTSTART:20251102T060000
END:STANDARD
BEGIN:DAYLIGHT
TZOFFSETFROM:-0500
TZOFFSETTO:-0400
TZNAME:EDT
DTSTART:20260308T070000
END:DAYLIGHT
BEGIN:STANDARD
TZOFFSETFROM:-0400
TZOFFSETTO:-0500
TZNAME:EST
DTSTART:20261101T060000
END:STANDARD
BEGIN:DAYLIGHT
TZOFFSETFROM:-0500
TZOFFSETTO:-0400
TZNAME:EDT
DTSTART:20270314T070000
END:DAYLIGHT
BEGIN:STANDARD
TZOFFSETFROM:-0400
TZOFFSETTO:-0500
TZNAME:EST
DTSTART:20271107T060000
END:STANDARD
END:VTIMEZONE
BEGIN:VEVENT
DTSTART;TZID=America/New_York:20261014T200000
DTEND;TZID=America/New_York:20261014T200000
DTSTAMP:20260422T182915
CREATED:20251231T193943Z
LAST-MODIFIED:20251231T193943Z
UID:9098-1792008000-1792008000@gemstonetherapyinstitute.org
SUMMARY:Journey of You 2026 - Session #9
DESCRIPTION:
URL:https://gemstonetherapyinstitute.org/event/journey-of-you-2026-session-9/
END:VEVENT
BEGIN:VEVENT
DTSTART;TZID=America/New_York:20261026T200000
DTEND;TZID=America/New_York:20261026T200000
DTSTAMP:20260422T182915
CREATED:20260122T170617Z
LAST-MODIFIED:20260122T170617Z
UID:14680-1793044800-1793044800@gemstonetherapyinstitute.org
SUMMARY:[GEM Level 1] Office Hours
DESCRIPTION:
URL:https://gemstonetherapyinstitute.org/event/gem-level-1-office-hours-13/
END:VEVENT
BEGIN:VEVENT
DTSTART;TZID=America/New_York:20261111T200000
DTEND;TZID=America/New_York:20261111T200000
DTSTAMP:20260422T182915
CREATED:20251231T194025Z
LAST-MODIFIED:20251231T194025Z
UID:9101-1794427200-1794427200@gemstonetherapyinstitute.org
SUMMARY:Journey of You 2026 - Session #10
DESCRIPTION:
URL:https://gemstonetherapyinstitute.org/event/journey-of-you-2026-session-10/
END:VEVENT
BEGIN:VEVENT
DTSTART;TZID=America/New_York:20261123T200000
DTEND;TZID=America/New_York:20261123T200000
DTSTAMP:20260422T182915
CREATED:20260122T170643Z
LAST-MODIFIED:20260122T170643Z
UID:14682-1795464000-1795464000@gemstonetherapyinstitute.org
SUMMARY:[GEM Level 1] Office Hours
DESCRIPTION:
URL:https://gemstonetherapyinstitute.org/event/gem-level-1-office-hours-14/
END:VEVENT
END:VCALENDAR