BEGIN:VCALENDAR
VERSION:2.0
PRODID:-// - ECPv6.15.12.2//NONSGML v1.0//EN
CALSCALE:GREGORIAN
METHOD:PUBLISH
X-ORIGINAL-URL:https://gemstonetherapyinstitute.org
X-WR-CALDESC:Events for 
REFRESH-INTERVAL;VALUE=DURATION:PT1H
X-Robots-Tag:noindex
X-PUBLISHED-TTL:PT1H
BEGIN:VTIMEZONE
TZID:America/New_York
BEGIN:DAYLIGHT
TZOFFSETFROM:-0500
TZOFFSETTO:-0400
TZNAME:EDT
DTSTART:20250309T070000
END:DAYLIGHT
BEGIN:STANDARD
TZOFFSETFROM:-0400
TZOFFSETTO:-0500
TZNAME:EST
DTSTART:20251102T060000
END:STANDARD
BEGIN:DAYLIGHT
TZOFFSETFROM:-0500
TZOFFSETTO:-0400
TZNAME:EDT
DTSTART:20260308T070000
END:DAYLIGHT
BEGIN:STANDARD
TZOFFSETFROM:-0400
TZOFFSETTO:-0500
TZNAME:EST
DTSTART:20261101T060000
END:STANDARD
BEGIN:DAYLIGHT
TZOFFSETFROM:-0500
TZOFFSETTO:-0400
TZNAME:EDT
DTSTART:20270314T070000
END:DAYLIGHT
BEGIN:STANDARD
TZOFFSETFROM:-0400
TZOFFSETTO:-0500
TZNAME:EST
DTSTART:20271107T060000
END:STANDARD
END:VTIMEZONE
BEGIN:VEVENT
DTSTART;TZID=America/New_York:20260513T200000
DTEND;TZID=America/New_York:20260513T200000
DTSTAMP:20260422T121008
CREATED:20251231T185719Z
LAST-MODIFIED:20251231T185929Z
UID:9082-1778702400-1778702400@gemstonetherapyinstitute.org
SUMMARY:Journey of You 2026 - Session #4
DESCRIPTION:
URL:https://gemstonetherapyinstitute.org/event/journey-of-you-2026-session-2-2/
END:VEVENT
BEGIN:VEVENT
DTSTART;TZID=America/New_York:20260514T200000
DTEND;TZID=America/New_York:20260514T200000
DTSTAMP:20260422T121008
CREATED:20260410T112215Z
LAST-MODIFIED:20260410T112215Z
UID:17475-1778788800-1778788800@gemstonetherapyinstitute.org
SUMMARY:An Evening with Healing Diamonds
DESCRIPTION:
URL:https://gemstonetherapyinstitute.org/event/an-evening-with-healing-diamonds/
END:VEVENT
BEGIN:VEVENT
DTSTART;TZID=America/New_York:20260516T110000
DTEND;TZID=America/New_York:20260516T110000
DTSTAMP:20260422T121008
CREATED:20260410T112313Z
LAST-MODIFIED:20260410T112313Z
UID:17477-1778929200-1778929200@gemstonetherapyinstitute.org
SUMMARY:An Evening with Healing Diamonds (Replay Session)
DESCRIPTION:
URL:https://gemstonetherapyinstitute.org/event/an-evening-with-healing-diamonds-replay-session/
END:VEVENT
BEGIN:VEVENT
DTSTART;TZID=America/New_York:20260525T200000
DTEND;TZID=America/New_York:20260525T200000
DTSTAMP:20260422T121008
CREATED:20260122T170426Z
LAST-MODIFIED:20260122T170426Z
UID:14672-1779739200-1779739200@gemstonetherapyinstitute.org
SUMMARY:[GEM Level 1] Office Hours
DESCRIPTION:
URL:https://gemstonetherapyinstitute.org/event/gem-level-1-office-hours-9/
END:VEVENT
END:VCALENDAR